BEGIN:VCALENDAR
VERSION:2.0
PRODID:-//wp-events-plugin.com//7.2.3.1//EN
TZID:America/Halifax
X-WR-TIMEZONE:America/Halifax
BEGIN:VEVENT
UID:247@devourfest.com
DTSTART;TZID=America/Halifax:20161103T170000
DTEND;TZID=America/Halifax:20161103T183000
DTSTAMP:20161001T162512Z
URL:https://devourfest.com/program/theater-of-life-wwhy-this-road-dan-port
 elance/
SUMMARY:Theater of Life w/Why This Road: Dan Portelance
DESCRIPTION:Theater of Life\n\nA soup kitchen is not where one would expect
  to see award-winning chefs with global reputations. Loaded and larded wit
 h food waste\, this is where you will find Massimo Bottura in his Refettor
 i Ambrosiano\, where he invited 60 of the world’s top chefs to cook with
  the food waste from Milan’s 2015 World Fair to feed the city’s hungry
 .\n\nCanada\, 2016\, 94 minutes\n\nDirector Peter Svatek\n\nDistributor Na
 tional Film Board of Canada\n\n\n\nWhy This Road: Dan Portelance\n\nAs the
  son and grandson of fish fryers in coastal Massachusetts\, Dan Portelance
  dreamed of a life elsewhere as a famous chef. But sometimes life deals so
 me tough cards…. \n\nCanada\, 2016\, 5 minutes\n\nDirector Ben Proudfoot
 \n\n\n\nThis film will inspire a dinner following the screening at 8PM at 
 the Wolfville Farmers' Market–Celebrity Chef Dinner with Normand Laprise
 \, John Higgins\, Stephen Wall\, Ardon Mofford &amp\; Martin Ruíz Salvado
 r
ATTACH;FMTTYPE=image/jpeg:https://devourfest.com/wp-content/uploads/2016/0
 9/Theater-of-Life-Bottura.jpg
LOCATION:Al Whittle Theatre\, 450 Main St\, Wolfville\, NS\, B4P 1E2\, Cana
 da
GEO:45.0915;-64.362765
X-APPLE-STRUCTURED-LOCATION;VALUE=URI;X-ADDRESS=450 Main St\, Wolfville\, N
 S\, B4P 1E2\, Canada;X-APPLE-RADIUS=100;X-TITLE=Al Whittle Theatre:geo:45.
 0915,-64.362765
END:VEVENT
BEGIN:VTIMEZONE
TZID:America/Halifax
X-LIC-LOCATION:America/Halifax
BEGIN:DAYLIGHT
DTSTART:20160313T030000
TZOFFSETFROM:-0400
TZOFFSETTO:-0300
TZNAME:ADT
END:DAYLIGHT
END:VTIMEZONE
END:VCALENDAR