BEGIN:VCALENDAR
VERSION:2.0
PRODID:-//wp-events-plugin.com//7.2.3.1//EN
TZID:America/Halifax
X-WR-TIMEZONE:America/Halifax
BEGIN:VEVENT
UID:731@devourfest.com
DTSTART;TZID=America/Halifax:20211021T200000
DTEND;TZID=America/Halifax:20211021T210000
DTSTAMP:20211018T013504Z
URL:https://devourfest.com/program/tomson-highway-concert-fundraiser-in-pe
 rson/
SUMMARY:Tomson Highway Fundraising Concert & Reception brought to you by RB
 C - IN PERSON
DESCRIPTION:Canadian icon Tomson Highway performs an evening of music and s
 torytelling with charm and wit in support of the Glooscap First Nation. Th
 is year’s opening night hosts returns to Devour! for a second night with
  an intimate concert at Devour! Studios exploring his life as an iconic\, 
 Governor General award-winning playwright\, author\, musician\, and racont
 eur.\n\nFollowing the concert\, guests can enjoy a reception in our expand
 ed Audi Halifax Lounge.\nSponsored by: Royal Bank of Canada\nTomson Highwa
 y\n\nTomson Highway was born in a snowbank on the Manitoba/Nunavut border 
 to a family of nomadic caribou hunters. He was raised off-reserve\, in the
  spectacularly beautiful natural landscape that is Canada’s subarctic. H
 e had the great privilege of growing up in two languages\, neither of whic
 h were French or English\; but Cree\, his mother tongue\, and Dene\, the l
 anguage of the neighbouring nation—a people with whom they roamed and hu
 nted. \n\nFollowing an education where he earned both a Bachelor of Music
  and the equivalent of a Bachelor of Arts with an English major\, he spent
  seven years immersed in the field of Native social work. He then combined
  his education and training\, and poured himself into writing. \n\nToday\
 , Tomson enjoys an international career as playwright\, novelist\, pianist
 \, composer\, and songwriter. Tomson is best known for universal hits such
  as The Rez Sisters\, Dry Lips Oughta Move to Kapuskasing\, Rose\, Ernesti
 ne Shuswap Gets her Trout\, and the best-selling novel Kiss of the Fur Que
 en. He has also published a number of children’s books\, namely Caribou 
 Song\, Dragon Fly Kites\, and Fox on the Ice. His work has been translated
  into 11 languages. \n\nFor many years\, Tomson was Artistic Director of 
 Canada’s premiere aboriginal theatre company\, Toronto-based Native Eart
 h Performing Arts\, from which has emerged an entire generation of playwri
 ghts and theatre artists. \n\nTomson is the recipient of 10  honorary do
 ctorates and is a member of the Order of Canada. His awards and nomination
 s include Dora Mavor Moore Awards\, Governor General’s Literary Award\, 
 Floyd S. Chalmers Canadian Play Award\, Toronto Arts Award\, and National 
 Aboriginal Achievement Award. \n\nFluent in Cree\, French\, and English\,
  he continues to write\, teach\, lecture\, and perform across Canada and a
 round the world. \n\nIn keeping with Nova Scotia provincial health regula
 tions and a desire to keep all our guests safe and healthy\, Devour! will 
 require proof of full Covid-19 vaccine immunization along with a valid pho
 to ID upon entry to all events with no exceptions. For all Devour! Covid P
 rotocols\, please visit our website.
ATTACH;FMTTYPE=image/jpeg:https://devourfest.com/wp-content/uploads/2021/0
 9/Indigenous-Voices-on-Stage-Screen-scaled.jpg
LOCATION:Devour! Studios\, 360 Main Street\, Wolfville\, NS\, B4P1C4\, Cana
 da
GEO:45.091942;-64.359045
X-APPLE-STRUCTURED-LOCATION;VALUE=URI;X-ADDRESS=360 Main Street\, Wolfville
 \, NS\, B4P1C4\, Canada;X-APPLE-RADIUS=100;X-TITLE=Devour! Studios:geo:45.
 091942,-64.359045
END:VEVENT
BEGIN:VTIMEZONE
TZID:America/Halifax
X-LIC-LOCATION:America/Halifax
BEGIN:DAYLIGHT
DTSTART:20210314T030000
TZOFFSETFROM:-0400
TZOFFSETTO:-0300
TZNAME:ADT
END:DAYLIGHT
END:VTIMEZONE
END:VCALENDAR