BEGIN:VCALENDAR
VERSION:2.0
PRODID:-//wp-events-plugin.com//7.2.3.1//EN
TZID:America/Halifax
X-WR-TIMEZONE:America/Halifax
BEGIN:VEVENT
UID:899@devourfest.com
DTSTART;TZID=America/Halifax:20231027T150000
DTEND;TZID=America/Halifax:20231027T170000
DTSTAMP:20231004T002122Z
URL:https://devourfest.com/program/tour-de-france-highlighting-wines-style
 s-from-france-w-alanna-mcintyre/
SUMMARY:Tour de France: Highlighting Wines & Styles From France w/Alanna Mc
 Intyre
DESCRIPTION:Join Bishop’s Cellar’s Alanna McIntyre for a voyage through
  France’s legendary wine regions. Alanna will lead you through a guided 
 tasting of six distinctive wines from France\, touching on age-old winemak
 ing traditions\, the region’s rich history\, and how their vineyards pro
 duce some of the world’s most coveted wines. From the rolling hills of B
 ordeaux to the hidden corners of the Rhône Valley\, get ready to be trans
 ported to France from the comfort of your tasting glass. À votre santé!\
 n\nTicket Price: $45.00\, includes wine samples\nOffered in English w/Fren
 ch translation\nSponsored by Bishop’s Cellar\nMust be 19+ to attend in-p
 erson\nWorkshop wines:\n\n\nJ. Laurens Le Moulin Blanquette de Limoux\nClo
 s Roussely L'Escale Sauvignon Blanc\, Loire Valley\nLe Chai Duchet Macon V
 illage\, Burgundy\nDomaine de la Madone Beaujolais\, Beaujolais\nPerrin Co
 te du Rhone Rouge\, Rhone\nChateau Argadens Bordeaux Supérieure\, Bordeau
 x\n\nAlanna McIntyre\nAlanna jumped on board at Bishop’s Cellar when the
  company was still very new. Since then\, she has brought her warm persona
 lity and extensive wine knowledge to several roles within Bishop’s retai
 l and operations teams. Alanna found her way into the wine industry throug
 h her love of art\, culture\, food\, and romance languages. After travelli
 ng and studying in France\, Spain\, and Italy\; she knew she wanted to lea
 rn more about the world of wine. Around the same time\, her father decided
  to plant a 12-acre vineyard in the Annapolis Valley. Her experience worki
 ng in the vineyard gives her a unique understanding and respect for the pr
 oducers of the wines we enjoy. Alanna has been a certified sommelier since
  2002\, and has received the WSET Level 3 Award in Wine &amp\; Spirits.@al
 anna.mcintyre  
ATTACH;FMTTYPE=image/jpeg:https://devourfest.com/wp-content/uploads/2023/0
 8/Alanna-McIntyre.jpeg
CATEGORIES:WORKSHOP
LOCATION:Devour! Studios\, 360 Main Street\, Wolfville\, NS\, B4P1C4\, Cana
 da
GEO:45.091942;-64.359045
X-APPLE-STRUCTURED-LOCATION;VALUE=URI;X-ADDRESS=360 Main Street\, Wolfville
 \, NS\, B4P1C4\, Canada;X-APPLE-RADIUS=100;X-TITLE=Devour! Studios:geo:45.
 091942,-64.359045
END:VEVENT
BEGIN:VTIMEZONE
TZID:America/Halifax
X-LIC-LOCATION:America/Halifax
BEGIN:DAYLIGHT
DTSTART:20230312T030000
TZOFFSETFROM:-0400
TZOFFSETTO:-0300
TZNAME:ADT
END:DAYLIGHT
END:VTIMEZONE
END:VCALENDAR