BEGIN:VCALENDAR
VERSION:2.0
PRODID:-//wp-events-plugin.com//7.2.3.1//EN
TZID:America/Halifax
X-WR-TIMEZONE:America/Halifax
BEGIN:VEVENT
UID:910@devourfest.com
DTSTART;TZID=America/Halifax:20231028T140000
DTEND;TZID=America/Halifax:20231028T153000
DTSTAMP:20231007T183054Z
URL:https://devourfest.com/program/treasures-of-the-bayous-w-acadiana/
SUMMARY:Treasures of the bayous w/Acadiana
DESCRIPTION:Treasures of the Bayous (Trésors des bayous)\nTo the south\, i
 n beautiful Louisiana\, live the descendants of a people who came from the
  north\; their new home is surrounded by the Bayous. The original inhabita
 nts fed on small animals\, berries\, roots\, and fish. The newcomers had t
 o adapt and discovered new culinary treasures in crawfish\, turtles\, catf
 ish\, oysters\, shrimp\, crabs\, and frogs. But the natural treasures of t
 he Bayous are the Cajuns themselves.\nCanada\, 2023\, 61 minutes\nDirector
 s: René Savoie\, Louis-Philippe Chiasson\nDistributor: Distributions du M
 ilieu\n\n\nAcadiana\nBreaux Bridge\, Louisiana\, is the Theatre of the Myt
 hic Crawfish Festival and it’s just another day in America.\nCanada\, 20
 19\, 9 minutes\nDirectors: Guillaume Fournier\, Samuel Matteau\, Yannick N
 olin\n\nSponsored by Congrès Mondial Acadien\, Office of Acadian Affairs 
 and Francophonie\, Dalhousie University Agri-Foods Analytics Lab\, Telefil
 m Canada\n\nFollowing the screening please join us back at Devour! Studios
  at 4 pm for a Panel Discussion on Acadian &amp\; Cajun Food Culture moder
 ated by Dr Sylvain Charlebois
ATTACH;FMTTYPE=image/jpeg:https://devourfest.com/wp-content/uploads/2023/0
 8/Treasures-of-the-Bayous.jpg
CATEGORIES:FILM
LOCATION:Al Whittle Theatre\, 450 Main St\, Wolfville\, NS\, B4P 1E2\, Cana
 da
GEO:45.0915;-64.362765
X-APPLE-STRUCTURED-LOCATION;VALUE=URI;X-ADDRESS=450 Main St\, Wolfville\, N
 S\, B4P 1E2\, Canada;X-APPLE-RADIUS=100;X-TITLE=Al Whittle Theatre:geo:45.
 0915,-64.362765
END:VEVENT
BEGIN:VTIMEZONE
TZID:America/Halifax
X-LIC-LOCATION:America/Halifax
BEGIN:DAYLIGHT
DTSTART:20230312T030000
TZOFFSETFROM:-0400
TZOFFSETTO:-0300
TZNAME:ADT
END:DAYLIGHT
END:VTIMEZONE
END:VCALENDAR