BEGIN:VCALENDAR
VERSION:2.0
PRODID:-//wp-events-plugin.com//7.2.3.1//EN
TZID:America/Halifax
X-WR-TIMEZONE:America/Halifax
BEGIN:VEVENT
UID:840@devourfest.com
DTSTART;TZID=America/Halifax:20221029T110000
DTEND;TZID=America/Halifax:20221029T124000
DTSTAMP:20220923T195319Z
URL:https://devourfest.com/program/up-on-the-mountain-w-my-moms-eggplant-s
 auce/
SUMMARY:Up on the Mountain w/My Mom's Eggplant Sauce
DESCRIPTION:Deep in the mountains of Montana\, Idaho\, and Oregon\, a diver
 se group of Southeast Asian refugees\, Latino immigrants\, and white Ameri
 cans harvest wild mushrooms for the restaurants of the world. But despite 
 the sustainability of the harvest\, these independent workers are repeated
 ly denied access to public lands. A gorgeous and immersive documentary\, U
 p on the Mountain exposes inequities in natural resources policies\, as we
 ll as the resourcefulness of the communities who depend on them.\n\nUSA\, 
 2022\, 84 minutes\nDirector: Olivier Matthon\nDistributor: Olivier Matthon
 \n\n\n\nMy Mom’s Eggplant Sauce\n\nIn this hearty exploration of family\
 , Mary Feinberg recounts a story to her filmmaker daughter as she makes he
 r famous eggplant ragout.\n\nUSA\, 2022\, 10 minutes\nDirector: Shaina Fei
 nberg
ATTACH;FMTTYPE=image/jpeg:https://devourfest.com/wp-content/uploads/2022/0
 9/Up-On-The-Mountain-scaled.jpg
CATEGORIES:FILM
LOCATION:Al Whittle Theatre\, 450 Main St\, Wolfville\, NS\, B4P 1E2\, Cana
 da
GEO:45.0915;-64.362765
X-APPLE-STRUCTURED-LOCATION;VALUE=URI;X-ADDRESS=450 Main St\, Wolfville\, N
 S\, B4P 1E2\, Canada;X-APPLE-RADIUS=100;X-TITLE=Al Whittle Theatre:geo:45.
 0915,-64.362765
END:VEVENT
BEGIN:VTIMEZONE
TZID:America/Halifax
X-LIC-LOCATION:America/Halifax
BEGIN:DAYLIGHT
DTSTART:20220313T030000
TZOFFSETFROM:-0400
TZOFFSETTO:-0300
TZNAME:ADT
END:DAYLIGHT
END:VTIMEZONE
END:VCALENDAR