BEGIN:VCALENDAR
VERSION:2.0
PRODID:-//wp-events-plugin.com//7.2.3.1//EN
TZID:America/Halifax
X-WR-TIMEZONE:America/Halifax
BEGIN:VEVENT
UID:111@devourfest.com
DTSTART;TZID=America/Halifax:20141115T140000
DTEND;TZID=America/Halifax:20141115T153000
DTSTAMP:20140924T201613Z
URL:https://devourfest.com/program/urban-farming-program-3-acres-in-detroi
 t-homeward-hands-in-the-dirt-green-bronx-machine-redane-grass-water-cows-b
 rooklyn-farmer/
SUMMARY:Urban Farming Program: 3 Acres in Detroit\, Homeward\, Hands in the
  Dirt\, Green Bronx Machine\, ReDane\, Grass Water Cows\, Brooklyn Farmer
DESCRIPTION:3 Acres in Detroit\n\n\n\nWhat do you do when your city is brok
 e\, its citizenry is underpaid and undernourished\, and its youth have nex
 t to no support? You farm.\n\nFrance/USA\, 2014\, 12 minutes\nDirector Nor
 a Mandray\nDistributor Detroit Je T’Aime\n\nHomeward\n\n\n\nCommunity is
  more than a watchword for these organic oregano farmers in Mexico. It is 
 a means of sustenance\, both personal and gastronomical.\n\nUSA/Mexico\, 2
 014\, 4 minutes\nDirectors Daniel Klein &amp\; Mirra Fine\nDistributor The
  Perennial Plate &amp\; Real Food Media Project\n\nHands in the Dirt\n\n\n
 \nFarmers in Richmond\, British Columbia fight to keep their land and drea
 ms alive against the threat of developers and Vancouver’s hip urban farm
 ing.\n\nCanada\, 2013\, 14 minutes\nDirectors Mik Turje &amp\; Javier Ojer
 \nDistributor Dandy Shots\n\nGreen Bronx Machine\n\n\n\nFollow the lives o
 f youth who say that a farming program for inner city youth saved their li
 ves.\n\nUSA\, 2014\, 3 minutes\nDirector Stephen Ritz\nDistributor Real Fo
 od Media Project\n\nReDane\n\n\n\nThe Danish countryside has become a fact
 ory\, dangerously limiting farming potential and the variety of local food
 s. ReDane offers an innovative map for the future.\n\nDenmark\, 2013\, 12 
 minutes\nDirector Andreas M Dalsgaard\nDistributor ELK Film\n\nGrass\, Wat
 er\, Cows\n\n\n\nArgentina is losing its reputation as a bastion of grass-
 fed beef with feedlot meat flooding the market. But Las Dos Hermanos belie
 ve in the old ways.\n\nUSA/Argentina\, 2014\, 9 minutes\nDirectors Daniel 
 Klein &amp\; Mirra Fine\nDistributor The Perennial Plate\n\nBrooklyn Farme
 r\n\n\n\nFarming is not just a rural concept. For the gang at Brooklyn Gra
 nge\, farming in urban climes is doable\, even if it does present its own 
 set of challenges.\n\nUSA\, 2014\, 27 minutes\nDirector Michael Tyburski\n
 Distributor {group theory}
LOCATION:Al Whittle Theatre\, 450 Main St\, Wolfville\, NS\, B4P 1E2\, Cana
 da
GEO:45.0915;-64.362765
X-APPLE-STRUCTURED-LOCATION;VALUE=URI;X-ADDRESS=450 Main St\, Wolfville\, N
 S\, B4P 1E2\, Canada;X-APPLE-RADIUS=100;X-TITLE=Al Whittle Theatre:geo:45.
 0915,-64.362765
END:VEVENT
BEGIN:VTIMEZONE
TZID:America/Halifax
X-LIC-LOCATION:America/Halifax
BEGIN:STANDARD
DTSTART:20141102T010000
TZOFFSETFROM:-0300
TZOFFSETTO:-0400
TZNAME:AST
END:STANDARD
END:VTIMEZONE
END:VCALENDAR