BEGIN:VCALENDAR
VERSION:2.0
PRODID:-//wp-events-plugin.com//7.2.3.1//EN
TZID:America/Halifax
X-WR-TIMEZONE:America/Halifax
BEGIN:VEVENT
UID:836@devourfest.com
DTSTART;TZID=America/Halifax:20221028T170000
DTEND;TZID=America/Halifax:20221028T191000
DTSTAMP:20220923T195200Z
URL:https://devourfest.com/program/veleno-w-she-got-balls/
SUMMARY:Veleno w/She Got Balls!
DESCRIPTION:In a small village in the countryside of Naples\, a humble fami
 ly of farmers\, led by Cosimo and his wife Rosaria\, obstinately refuse to
  let their land become a dump for toxic waste\, in spite of the threats an
 d repercussions by members of the Camorra (mafia syndicate).\n\nItaly\, 20
 17\, 103 minutes\nDirector: Diego Olivares\nDistributor: MovieItaly\n\n\n\
 nShe Got Balls! \n\nThe Annual South Philly Meatball Contest will never b
 e the same when chef Jennifer Zavala shows up to compete with her controve
 rsial vegan meatballs.\n\nUSA\, 2022\, 20 minutes\nDirector: Cheryl Hess\n
 \nSponsored by Movie Italy
ATTACH;FMTTYPE=image/jpeg:https://devourfest.com/wp-content/uploads/2022/0
 9/Veleno.jpg
CATEGORIES:FILM
LOCATION:Al Whittle Theatre\, 450 Main St\, Wolfville\, NS\, B4P 1E2\, Cana
 da
GEO:45.0915;-64.362765
X-APPLE-STRUCTURED-LOCATION;VALUE=URI;X-ADDRESS=450 Main St\, Wolfville\, N
 S\, B4P 1E2\, Canada;X-APPLE-RADIUS=100;X-TITLE=Al Whittle Theatre:geo:45.
 0915,-64.362765
END:VEVENT
BEGIN:VTIMEZONE
TZID:America/Halifax
X-LIC-LOCATION:America/Halifax
BEGIN:DAYLIGHT
DTSTART:20220313T030000
TZOFFSETFROM:-0400
TZOFFSETTO:-0300
TZNAME:ADT
END:DAYLIGHT
END:VTIMEZONE
END:VCALENDAR