BEGIN:VCALENDAR
VERSION:2.0
PRODID:-//wp-events-plugin.com//7.2.3.1//EN
TZID:America/Halifax
X-WR-TIMEZONE:America/Halifax
BEGIN:VEVENT
UID:960@devourfest.com
DTSTART;TZID=America/Halifax:20241025T200000
DTEND;TZID=America/Halifax:20241025T220000
DTSTAMP:20240905T134607Z
URL:https://devourfest.com/program/white-plastic-sky-w-tomato-kitchen/
SUMMARY:White Plastic Sky w/Tomato Kitchen
DESCRIPTION:2123. Faced with diminishing resources\, the human race can onl
 y survive through a trade-off: At the age of 50\, every citizen is gradual
 ly turned into a tree. When Stefan discovers that his beloved wife Nora ha
 s voluntarily signed up to donate her own body before her time\, he sets o
 ut on an adventurous journey to save her at all costs.\nHungary/Slovakia\,
  2023\, 112 minutes\nDirectors: Tibor Bánóczki\, Sarolta Szabó\nDistrib
 utor: Films Boutique\n\nTomato Kitchen\n\nAn accident at dinner reveals th
 e dark truth of Tomato Kitchen\, exposing Lee’s hidden past and causing 
 tension among colleagues.\nChina\, 2022\, 9 minutes\nDirector: Junyi Xiao\
 n
ATTACH;FMTTYPE=image/jpeg:https://devourfest.com/wp-content/uploads/2024/0
 9/White-Plastic-Sky.jpeg
CATEGORIES:FILM
LOCATION:Al Whittle Theatre\, 450 Main St\, Wolfville\, NS\, B4P 1E2\, Cana
 da
GEO:45.0915;-64.362765
X-APPLE-STRUCTURED-LOCATION;VALUE=URI;X-ADDRESS=450 Main St\, Wolfville\, N
 S\, B4P 1E2\, Canada;X-APPLE-RADIUS=100;X-TITLE=Al Whittle Theatre:geo:45.
 0915,-64.362765
END:VEVENT
BEGIN:VTIMEZONE
TZID:America/Halifax
X-LIC-LOCATION:America/Halifax
BEGIN:DAYLIGHT
DTSTART:20240310T030000
TZOFFSETFROM:-0400
TZOFFSETTO:-0300
TZNAME:ADT
END:DAYLIGHT
END:VTIMEZONE
END:VCALENDAR