BEGIN:VCALENDAR
VERSION:2.0
PRODID:-//wp-events-plugin.com//7.2.3.1//EN
TZID:America/Halifax
X-WR-TIMEZONE:America/Halifax
BEGIN:VEVENT
UID:971@devourfest.com
DTSTART;TZID=America/Halifax:20241026T200000
DTEND;TZID=America/Halifax:20241026T214500
DTSTAMP:20241005T182310Z
URL:https://devourfest.com/program/widow-cliquot-w-paumo-damour/
SUMMARY:Widow Cliquot w/Paumo D'amour
DESCRIPTION:Widow Clicquot is based on the true story behind the Veuve Clic
 quot champagne family and business that began in the late 18th century. Af
 ter her husband’s untimely death\, Barbe-Nicole Ponsardin Clicquot flout
 s convention by assuming the reins of the fledgling wine business. Steerin
 g the company through dizzying reversals\, she defies her critics and revo
 lutionizes the champagne industry.\nFrance/UK\, 2023\, 89 minutes\nDirecto
 r: Thomas Napper\nDistributor: Vertical Entertainment\n\nPaumo d’Amour\n
 \nDédé neglects his wife for his vegetable garden. When his prized tomat
 oes vanish\, he must solve the mystery of their disappearance.\nFrance\, 2
 023\, 6 minutes\nDirectors: Ian Halley\, Nathan Hermouet\, Luka Croisez\, 
 Laurène Vaubourdolle\, Jade Van De Veire\nSponsored by Alliance Français
 e
ATTACH;FMTTYPE=image/jpeg:https://devourfest.com/wp-content/uploads/2024/0
 9/Widow-Clicquot-e1725300121122.jpeg
CATEGORIES:FILM
LOCATION:Al Whittle Theatre\, 450 Main St\, Wolfville\, NS\, B4P 1E2\, Cana
 da
GEO:45.0915;-64.362765
X-APPLE-STRUCTURED-LOCATION;VALUE=URI;X-ADDRESS=450 Main St\, Wolfville\, N
 S\, B4P 1E2\, Canada;X-APPLE-RADIUS=100;X-TITLE=Al Whittle Theatre:geo:45.
 0915,-64.362765
END:VEVENT
BEGIN:VTIMEZONE
TZID:America/Halifax
X-LIC-LOCATION:America/Halifax
BEGIN:DAYLIGHT
DTSTART:20240310T030000
TZOFFSETFROM:-0400
TZOFFSETTO:-0300
TZNAME:ADT
END:DAYLIGHT
END:VTIMEZONE
END:VCALENDAR