BEGIN:VCALENDAR
VERSION:2.0
PRODID:-//wp-events-plugin.com//7.2.3.1//EN
TZID:America/Halifax
X-WR-TIMEZONE:America/Halifax
BEGIN:VEVENT
UID:956@devourfest.com
DTSTART;TZID=America/Halifax:20241025T140000
DTEND;TZID=America/Halifax:20241025T153000
DTSTAMP:20240905T014817Z
URL:https://devourfest.com/program/wilding-w-my-name-is-edgar-and-i-have-a
 -cow/
SUMMARY:Wilding w/My Name is Edgar and I Have a Cow
DESCRIPTION:In Wilding\, a young couple embarks on a daring journey to rest
 ore their failing estate by entrusting its fate to nature. As they tear do
 wn fences and allow the land to return to the wild\, they face opposition 
 and skepticism from their community. Their bold experiment becomes a remar
 kable rewilding success story\, showcasing the power of nature’s resilie
 nce and regeneration.\nUK\, 204\, 75 minutes\nDirector: David Allen\nDistr
 ibutor: MetFilm Sales\n\nMy Name Is Edgar and I Have a Cow\nEdgar’s mund
 ane life is forever altered when he witnesses the birth of a calf at an ab
 attoir\, leading to unexpected consequences.\nCzech Republic\, 2023\, 8 mi
 nutes\nDirector: Filip Diviak
ATTACH;FMTTYPE=image/jpeg:https://devourfest.com/wp-content/uploads/2024/0
 9/Wilding-e1725299915984.jpeg
CATEGORIES:FILM
LOCATION:Al Whittle Theatre\, 450 Main St\, Wolfville\, NS\, B4P 1E2\, Cana
 da
GEO:45.0915;-64.362765
X-APPLE-STRUCTURED-LOCATION;VALUE=URI;X-ADDRESS=450 Main St\, Wolfville\, N
 S\, B4P 1E2\, Canada;X-APPLE-RADIUS=100;X-TITLE=Al Whittle Theatre:geo:45.
 0915,-64.362765
END:VEVENT
BEGIN:VTIMEZONE
TZID:America/Halifax
X-LIC-LOCATION:America/Halifax
BEGIN:DAYLIGHT
DTSTART:20240310T030000
TZOFFSETFROM:-0400
TZOFFSETTO:-0300
TZNAME:ADT
END:DAYLIGHT
END:VTIMEZONE
END:VCALENDAR