BEGIN:VCALENDAR
VERSION:2.0
PRODID:-//wp-events-plugin.com//7.2.3.1//EN
TZID:America/Halifax
X-WR-TIMEZONE:America/Halifax
BEGIN:VEVENT
UID:783@devourfest.com
DTSTART;TZID=America/Halifax:20211022T150000
DTEND;TZID=America/Halifax:20211022T170000
DTSTAMP:20211018T013651Z
URL:https://devourfest.com/program/wine-workshop-back-to-the-land-with-kat
 hryn-harding-in-person/
SUMMARY:Wine Workshop - Back to the Land with Kathryn Harding - IN PERSON
DESCRIPTION:Any winemaker will tell you that 'wine is made in the vineyard'
 . And increasingly\, more focus is being placed on the various farming met
 hods vignerons have at their disposal to produce wines that reflect a true
  sense of place. Have you always wanted to know about the differences betw
 een conventional and organic farming? Curious about 'natural' wines? Taste
  through six wines from across the globe and learn what happens in the vin
 eyard to produce a great bottle of wine. \n\nTicket Price: $30.00 in-pers
 on (includes beverage samples) \nSponsored by: Bishop’s Cellar\nMust be
  19+ to attend in person\n\nKathryn Harding\n\nKathryn Harding\, Director 
 of Consumer Experience at Bishop's Cellar\, has spent over 15 years in the
  wine industry sharing her passion for wine and food. A certified sommelie
 r\, Kathryn loves helping others learn about the world of wine through edu
 cation courses\, wine pairings and various tasting events. When she's not 
 teaching or pairing wine and food\, you can often find her with a glass of
  Chardonnay (her favorite style) or enjoying the outdoors.@wino_kat\n\nIn 
 keeping with Nova Scotia provincial health regulations and a desire to kee
 p all our guests safe and healthy\, Devour! will require proof of full Cov
 id-19 vaccine immunization along with a valid photo ID upon entry to all e
 vents with no exceptions. For all Devour! Covid Protocols\, please visit o
 ur website.
ATTACH;FMTTYPE=image/jpeg:https://devourfest.com/wp-content/uploads/2021/0
 9/Bishops-Cellar-Wine-Workshop-TBD-scaled.jpg
LOCATION:Devour! Studios\, 360 Main Street\, Wolfville\, NS\, B4P1C4\, Cana
 da
GEO:45.091942;-64.359045
X-APPLE-STRUCTURED-LOCATION;VALUE=URI;X-ADDRESS=360 Main Street\, Wolfville
 \, NS\, B4P1C4\, Canada;X-APPLE-RADIUS=100;X-TITLE=Devour! Studios:geo:45.
 091942,-64.359045
END:VEVENT
BEGIN:VTIMEZONE
TZID:America/Halifax
X-LIC-LOCATION:America/Halifax
BEGIN:DAYLIGHT
DTSTART:20210314T030000
TZOFFSETFROM:-0400
TZOFFSETTO:-0300
TZNAME:ADT
END:DAYLIGHT
END:VTIMEZONE
END:VCALENDAR