BEGIN:VCALENDAR
VERSION:2.0
PRODID:-//wp-events-plugin.com//7.2.3.1//EN
TZID:America/Halifax
X-WR-TIMEZONE:America/Halifax
BEGIN:VEVENT
UID:969@devourfest.com
DTSTART;TZID=America/Halifax:20241026T140000
DTEND;TZID=America/Halifax:20241026T153000
DTSTAMP:20241005T182042Z
URL:https://devourfest.com/program/women-captains-w-love-is-a-fish/
SUMMARY:Women Captains w/Love is a Fish
DESCRIPTION:Marilyn\, a lobster fisher\, aspires to be a captain like her f
 ather. Encouraged by fellow women captains\, she pursues her dream until t
 ragedy strikes. Her husband’s sudden death leaves her a single mother\, 
 challenging her aspirations. Marilyn must now navigate her new reality and
  reevaluate her dreams of becoming a captain.\nCanada\, 2022\, 52 minutes\
 nDirector: Phil Comeau \nDistributor: Bellefeuille Production\n\nLove is 
 a Fish\nExperience the unique relationship between fish\, the ocean\, and 
 the community of Hachijo Jima in this insightful and touching documentary.
 \nUSA/Japan\, 2023\, 20 minutes\nDirector: Conor Hagen \n\nAt this screen
 ing we will premiere &amp\; launch a new The Landscape of Grand Pré Reel.
 \n\nSponsored by the Nova Scotia Office of Acadian Affairs and Francophoni
 e\, The Landscape of Grand Pré\, Telefilm Canada\, and the Agri-Food Anal
 ytics Lab
ATTACH;FMTTYPE=image/jpeg:https://devourfest.com/wp-content/uploads/2024/0
 9/Women-Captains-e1725300060836.jpeg
CATEGORIES:FILM
LOCATION:Al Whittle Theatre\, 450 Main St\, Wolfville\, NS\, B4P 1E2\, Cana
 da
GEO:45.0915;-64.362765
X-APPLE-STRUCTURED-LOCATION;VALUE=URI;X-ADDRESS=450 Main St\, Wolfville\, N
 S\, B4P 1E2\, Canada;X-APPLE-RADIUS=100;X-TITLE=Al Whittle Theatre:geo:45.
 0915,-64.362765
END:VEVENT
BEGIN:VTIMEZONE
TZID:America/Halifax
X-LIC-LOCATION:America/Halifax
BEGIN:DAYLIGHT
DTSTART:20240310T030000
TZOFFSETFROM:-0400
TZOFFSETTO:-0300
TZNAME:ADT
END:DAYLIGHT
END:VTIMEZONE
END:VCALENDAR